BEGIN:VCALENDAR
VERSION:2.0
PRODID:-//Carrefour jeunesse-emploi de Sherbrooke - ECPv6.10.2//NONSGML v1.0//EN
CALSCALE:GREGORIAN
METHOD:PUBLISH
X-WR-CALNAME:Carrefour jeunesse-emploi de Sherbrooke
X-ORIGINAL-URL:http://cje-sherbrooke.qc.ca/en/
X-WR-CALDESC:Events for Carrefour jeunesse-emploi de Sherbrooke
REFRESH-INTERVAL;VALUE=DURATION:PT1H
X-Robots-Tag:noindex
X-PUBLISHED-TTL:PT1H
BEGIN:VTIMEZONE
TZID:America/Toronto
BEGIN:DAYLIGHT
TZOFFSETFROM:-0500
TZOFFSETTO:-0400
TZNAME:EDT
DTSTART:20180311T070000
END:DAYLIGHT
BEGIN:STANDARD
TZOFFSETFROM:-0400
TZOFFSETTO:-0500
TZNAME:EST
DTSTART:20181104T060000
END:STANDARD
END:VTIMEZONE
BEGIN:VEVENT
DTSTART;TZID=America/Toronto:20180122T100000
DTEND;TZID=America/Toronto:20180122T110000
DTSTAMP:20260422T012859
CREATED:20171221T162048Z
LAST-MODIFIED:20180131T135618Z
UID:1072-1516615200-1516618800@cje-sherbrooke.qc.ca
SUMMARY:Gumboots
DESCRIPTION:Danse percussive africaine qui aura lieu au Centre des arts Jean-Besré.
URL:http://cje-sherbrooke.qc.ca/en/activity/gumboots/
LOCATION:Centre des arts de la scène Jean-Besré\, 250 Dépôt street\, office 208\, Sherbrooke\, (Québec)\, J1H 5G1\, Canada
ORGANIZER;CN="Le Carrefour jeunesse-emploi de Sherbrooke":MAILTO:cje@cje-sherbrooke.qc.ca
GEO:45.4002273;-71.8883023
X-APPLE-STRUCTURED-LOCATION;VALUE=URI;X-ADDRESS=Centre des arts de la scène Jean-Besré 250 Dépôt street office 208 Sherbrooke (Québec) J1H 5G1 Canada;X-APPLE-RADIUS=500;X-TITLE=250 Dépôt street\, office 208:geo:-71.8883023,45.4002273
END:VEVENT
END:VCALENDAR