BEGIN:VCALENDAR
VERSION:2.0
PRODID:-//Carrefour jeunesse-emploi de Sherbrooke - ECPv6.10.2//NONSGML v1.0//EN
CALSCALE:GREGORIAN
METHOD:PUBLISH
X-WR-CALNAME:Carrefour jeunesse-emploi de Sherbrooke
X-ORIGINAL-URL:http://cje-sherbrooke.qc.ca
X-WR-CALDESC:Événements pour Carrefour jeunesse-emploi de Sherbrooke
REFRESH-INTERVAL;VALUE=DURATION:PT1H
X-Robots-Tag:noindex
X-PUBLISHED-TTL:PT1H
BEGIN:VTIMEZONE
TZID:America/Toronto
BEGIN:DAYLIGHT
TZOFFSETFROM:-0500
TZOFFSETTO:-0400
TZNAME:EDT
DTSTART:20240310T070000
END:DAYLIGHT
BEGIN:STANDARD
TZOFFSETFROM:-0400
TZOFFSETTO:-0500
TZNAME:EST
DTSTART:20241103T060000
END:STANDARD
END:VTIMEZONE
BEGIN:VEVENT
DTSTART;TZID=America/Toronto:20240323T100000
DTEND;TZID=America/Toronto:20240323T153000
DTSTAMP:20260421T153001
CREATED:20240318T195507Z
LAST-MODIFIED:20240318T195615Z
UID:12133-1711188000-1711207800@cje-sherbrooke.qc.ca
SUMMARY:Salon JeuneEmploi 2024
DESCRIPTION:Nous sommes heureux de t’inviter à l’événement JeunEmplois 2024 qui aura lieu le 23 mars de 10 h à 15 h 30 au Collégial du Séminaire de Sherbrooke (155 Rue Belvédère N)\n\nViens rencontrer une foule d’employeurs sensibilisés à la conciliation travail-études qui offrent des emploi autant à temps partiel qu’à temps plein. C’est le rendez-vous à ne pas manquer pour postuler à des dizaines d’emplois en un seul endroit! L’équipe du Carrefour jeunesse emploi de Sherbrooke sera présent pour t’aider à faire ton CV si tu en as besoin. \n\nOn vous attend en grand nombre!
URL:http://cje-sherbrooke.qc.ca/activite/salon-jeuneemploi-2024/
LOCATION:155 Rue Belvédère Nord
END:VEVENT
END:VCALENDAR