BEGIN:VCALENDAR
VERSION:2.0
PRODID:-//Carrefour jeunesse-emploi de Sherbrooke - ECPv6.10.2//NONSGML v1.0//EN
CALSCALE:GREGORIAN
METHOD:PUBLISH
X-ORIGINAL-URL:http://cje-sherbrooke.qc.ca
X-WR-CALDESC:Événements pour Carrefour jeunesse-emploi de Sherbrooke
REFRESH-INTERVAL;VALUE=DURATION:PT1H
X-Robots-Tag:noindex
X-PUBLISHED-TTL:PT1H
BEGIN:VTIMEZONE
TZID:America/Toronto
BEGIN:DAYLIGHT
TZOFFSETFROM:-0500
TZOFFSETTO:-0400
TZNAME:EDT
DTSTART:20190310T070000
END:DAYLIGHT
BEGIN:STANDARD
TZOFFSETFROM:-0400
TZOFFSETTO:-0500
TZNAME:EST
DTSTART:20191103T060000
END:STANDARD
END:VTIMEZONE
BEGIN:VEVENT
DTSTART;TZID=America/Toronto:20190827T170000
DTEND;TZID=America/Toronto:20190827T190000
DTSTAMP:20260422T124831
CREATED:20190806T143639Z
LAST-MODIFIED:20190903T172311Z
UID:3424-1566925200-1566932400@cje-sherbrooke.qc.ca
SUMMARY:Groupe 5 à 7
DESCRIPTION:Le Groupe 5@7 (destiné aux jeunes adultes âgés entre 16 et 30 ans) est issu du comité sur la transition à l’âge adulte de Sherbrooke et soutenu par trois partenaires principaux : le Centre RBC d’expertise universitaire en santé mentale de l’Université de Sherbrooke\, le Carrefour jeunesse-emploi de Sherbrooke et le Tremplin 16-30.
URL:http://cje-sherbrooke.qc.ca/activite/groupe-5-a-7-12/
LOCATION:Tremplin 16-30\, 95-10 Rue Wellington Sud\, Sherbrooke\,\, Québec\, J1H 5C8
ORGANIZER;CN="Carrefour jeunesse-emploi de Sherbrooke":MAILTO:cje@cje-sherbrooke.qc.ca
GEO:45.3997868;-71.8895656
X-APPLE-STRUCTURED-LOCATION;VALUE=URI;X-ADDRESS=Tremplin 16-30 95-10 Rue Wellington Sud Sherbrooke Québec J1H 5C8;X-APPLE-RADIUS=500;X-TITLE=95-10 Rue Wellington Sud:geo:-71.8895656,45.3997868
END:VEVENT
BEGIN:VEVENT
DTSTART;TZID=America/Toronto:20190820T170000
DTEND;TZID=America/Toronto:20190820T190000
DTSTAMP:20260422T124831
CREATED:20190806T143413Z
LAST-MODIFIED:20190806T143413Z
UID:3422-1566320400-1566327600@cje-sherbrooke.qc.ca
SUMMARY:Groupe 5 à 7
DESCRIPTION:Le Groupe 5@7 (destiné aux jeunes adultes âgés entre 16 et 30 ans) est issu du comité sur la transition à l’âge adulte de Sherbrooke et soutenu par trois partenaires principaux : le Centre RBC d’expertise universitaire en santé mentale de l’Université de Sherbrooke\, le Carrefour jeunesse-emploi de Sherbrooke et le Tremplin 16-30.
URL:http://cje-sherbrooke.qc.ca/activite/groupe-5-a-7-11/
LOCATION:Tremplin 16-30\, 95-10 Rue Wellington Sud\, Sherbrooke\,\, Québec\, J1H 5C8
ORGANIZER;CN="Carrefour jeunesse-emploi de Sherbrooke":MAILTO:cje@cje-sherbrooke.qc.ca
GEO:45.3997868;-71.8895656
X-APPLE-STRUCTURED-LOCATION;VALUE=URI;X-ADDRESS=Tremplin 16-30 95-10 Rue Wellington Sud Sherbrooke Québec J1H 5C8;X-APPLE-RADIUS=500;X-TITLE=95-10 Rue Wellington Sud:geo:-71.8895656,45.3997868
END:VEVENT
BEGIN:VEVENT
DTSTART;TZID=America/Toronto:20190813T170000
DTEND;TZID=America/Toronto:20190813T190000
DTSTAMP:20260422T124831
CREATED:20190806T140352Z
LAST-MODIFIED:20190806T140352Z
UID:3420-1565715600-1565722800@cje-sherbrooke.qc.ca
SUMMARY:Groupe 5 à 7
DESCRIPTION:Le Groupe 5@7 (destiné aux jeunes adultes âgés entre 16 et 30 ans) est issu du comité sur la transition à l’âge adulte de Sherbrooke et soutenu par trois partenaires principaux : le Centre RBC d’expertise universitaire en santé mentale de l’Université de Sherbrooke\, le Carrefour jeunesse-emploi de Sherbrooke et le Tremplin 16-30.
URL:http://cje-sherbrooke.qc.ca/activite/groupe-5-a-7-10/
LOCATION:Tremplin 16-30\, 95-10 Rue Wellington Sud\, Sherbrooke\,\, Québec\, J1H 5C8
ORGANIZER;CN="Carrefour jeunesse-emploi de Sherbrooke":MAILTO:cje@cje-sherbrooke.qc.ca
GEO:45.3997868;-71.8895656
X-APPLE-STRUCTURED-LOCATION;VALUE=URI;X-ADDRESS=Tremplin 16-30 95-10 Rue Wellington Sud Sherbrooke Québec J1H 5C8;X-APPLE-RADIUS=500;X-TITLE=95-10 Rue Wellington Sud:geo:-71.8895656,45.3997868
END:VEVENT
BEGIN:VEVENT
DTSTART;TZID=America/Toronto:20190806T170000
DTEND;TZID=America/Toronto:20190806T190000
DTSTAMP:20260422T124831
CREATED:20190806T140243Z
LAST-MODIFIED:20190806T140243Z
UID:3418-1565110800-1565118000@cje-sherbrooke.qc.ca
SUMMARY:Groupe 5 à 7
DESCRIPTION:Le Groupe 5@7 (destiné aux jeunes adultes âgés entre 16 et 30 ans) est issu du comité sur la transition à l’âge adulte de Sherbrooke et soutenu par trois partenaires principaux : le Centre RBC d’expertise universitaire en santé mentale de l’Université de Sherbrooke\, le Carrefour jeunesse-emploi de Sherbrooke et le Tremplin 16-30.
URL:http://cje-sherbrooke.qc.ca/activite/groupe-5-a-7-9/
LOCATION:Tremplin 16-30\, 95-10 Rue Wellington Sud\, Sherbrooke\,\, Québec\, J1H 5C8
ORGANIZER;CN="Carrefour jeunesse-emploi de Sherbrooke":MAILTO:cje@cje-sherbrooke.qc.ca
GEO:45.3997868;-71.8895656
X-APPLE-STRUCTURED-LOCATION;VALUE=URI;X-ADDRESS=Tremplin 16-30 95-10 Rue Wellington Sud Sherbrooke Québec J1H 5C8;X-APPLE-RADIUS=500;X-TITLE=95-10 Rue Wellington Sud:geo:-71.8895656,45.3997868
END:VEVENT
BEGIN:VEVENT
DTSTART;TZID=America/Toronto:20190730T170000
DTEND;TZID=America/Toronto:20190730T190000
DTSTAMP:20260422T124831
CREATED:20190610T193557Z
LAST-MODIFIED:20190610T193557Z
UID:3097-1564506000-1564513200@cje-sherbrooke.qc.ca
SUMMARY:Groupe 5 à 7
DESCRIPTION:Le Groupe 5@7 (destiné aux jeunes adultes âgés entre 16 et 30 ans) est issu du comité sur la transition à l’âge adulte de Sherbrooke et soutenu par trois partenaires principaux : le Centre RBC d’expertise universitaire en santé mentale de l’Université de Sherbrooke\, le Carrefour jeunesse-emploi de Sherbrooke et le Tremplin 16-30.
URL:http://cje-sherbrooke.qc.ca/activite/groupe-5-a-7-8/
LOCATION:Tremplin 16-30\, 95-10 Rue Wellington Sud\, Sherbrooke\,\, Québec\, J1H 5C8
ORGANIZER;CN="Carrefour jeunesse-emploi de Sherbrooke":MAILTO:cje@cje-sherbrooke.qc.ca
GEO:45.3997868;-71.8895656
X-APPLE-STRUCTURED-LOCATION;VALUE=URI;X-ADDRESS=Tremplin 16-30 95-10 Rue Wellington Sud Sherbrooke Québec J1H 5C8;X-APPLE-RADIUS=500;X-TITLE=95-10 Rue Wellington Sud:geo:-71.8895656,45.3997868
END:VEVENT
BEGIN:VEVENT
DTSTART;TZID=America/Toronto:20190723T170000
DTEND;TZID=America/Toronto:20190723T190000
DTSTAMP:20260422T124831
CREATED:20190610T193417Z
LAST-MODIFIED:20190610T193417Z
UID:3095-1563901200-1563908400@cje-sherbrooke.qc.ca
SUMMARY:Groupe 5 à 7
DESCRIPTION:Le Groupe 5@7 (destiné aux jeunes adultes âgés entre 16 et 30 ans) est issu du comité sur la transition à l’âge adulte de Sherbrooke et soutenu par trois partenaires principaux : le Centre RBC d’expertise universitaire en santé mentale de l’Université de Sherbrooke\, le Carrefour jeunesse-emploi de Sherbrooke et le Tremplin 16-30.
URL:http://cje-sherbrooke.qc.ca/activite/groupe-5-a-7-7/
LOCATION:Tremplin 16-30\, 95-10 Rue Wellington Sud\, Sherbrooke\,\, Québec\, J1H 5C8
ORGANIZER;CN="Carrefour jeunesse-emploi de Sherbrooke":MAILTO:cje@cje-sherbrooke.qc.ca
GEO:45.3997868;-71.8895656
X-APPLE-STRUCTURED-LOCATION;VALUE=URI;X-ADDRESS=Tremplin 16-30 95-10 Rue Wellington Sud Sherbrooke Québec J1H 5C8;X-APPLE-RADIUS=500;X-TITLE=95-10 Rue Wellington Sud:geo:-71.8895656,45.3997868
END:VEVENT
BEGIN:VEVENT
DTSTART;TZID=America/Toronto:20190716T170000
DTEND;TZID=America/Toronto:20190716T190000
DTSTAMP:20260422T124831
CREATED:20190610T193309Z
LAST-MODIFIED:20190610T193309Z
UID:3093-1563296400-1563303600@cje-sherbrooke.qc.ca
SUMMARY:Groupe 5 à 7
DESCRIPTION:Le Groupe 5@7 (destiné aux jeunes adultes âgés entre 16 et 30 ans) est issu du comité sur la transition à l’âge adulte de Sherbrooke et soutenu par trois partenaires principaux : le Centre RBC d’expertise universitaire en santé mentale de l’Université de Sherbrooke\, le Carrefour jeunesse-emploi de Sherbrooke et le Tremplin 16-30.
URL:http://cje-sherbrooke.qc.ca/activite/groupe-5-a-7-6/
LOCATION:Tremplin 16-30\, 95-10 Rue Wellington Sud\, Sherbrooke\,\, Québec\, J1H 5C8
ORGANIZER;CN="Carrefour jeunesse-emploi de Sherbrooke":MAILTO:cje@cje-sherbrooke.qc.ca
GEO:45.3997868;-71.8895656
X-APPLE-STRUCTURED-LOCATION;VALUE=URI;X-ADDRESS=Tremplin 16-30 95-10 Rue Wellington Sud Sherbrooke Québec J1H 5C8;X-APPLE-RADIUS=500;X-TITLE=95-10 Rue Wellington Sud:geo:-71.8895656,45.3997868
END:VEVENT
BEGIN:VEVENT
DTSTART;TZID=America/Toronto:20190709T170000
DTEND;TZID=America/Toronto:20190709T190000
DTSTAMP:20260422T124831
CREATED:20190610T193143Z
LAST-MODIFIED:20190610T193143Z
UID:3091-1562691600-1562698800@cje-sherbrooke.qc.ca
SUMMARY:Groupe 5 à 7
DESCRIPTION:Le Groupe 5@7 (destiné aux jeunes adultes âgés entre 16 et 30 ans) est issu du comité sur la transition à l’âge adulte de Sherbrooke et soutenu par trois partenaires principaux : le Centre RBC d’expertise universitaire en santé mentale de l’Université de Sherbrooke\, le Carrefour jeunesse-emploi de Sherbrooke et le Tremplin 16-30.
URL:http://cje-sherbrooke.qc.ca/activite/groupe-5-a-7-5/
LOCATION:Tremplin 16-30\, 95-10 Rue Wellington Sud\, Sherbrooke\,\, Québec\, J1H 5C8
ORGANIZER;CN="Carrefour jeunesse-emploi de Sherbrooke":MAILTO:cje@cje-sherbrooke.qc.ca
GEO:45.3997868;-71.8895656
X-APPLE-STRUCTURED-LOCATION;VALUE=URI;X-ADDRESS=Tremplin 16-30 95-10 Rue Wellington Sud Sherbrooke Québec J1H 5C8;X-APPLE-RADIUS=500;X-TITLE=95-10 Rue Wellington Sud:geo:-71.8895656,45.3997868
END:VEVENT
BEGIN:VEVENT
DTSTART;TZID=America/Toronto:20190702T170000
DTEND;TZID=America/Toronto:20190702T190000
DTSTAMP:20260422T124831
CREATED:20190610T192803Z
LAST-MODIFIED:20190610T192803Z
UID:3089-1562086800-1562094000@cje-sherbrooke.qc.ca
SUMMARY:Groupe 5 à 7
DESCRIPTION:Le Groupe 5@7 (destiné aux jeunes adultes âgés entre 16 et 30 ans) est issu du comité sur la transition à l’âge adulte de Sherbrooke et soutenu par trois partenaires principaux : le Centre RBC d’expertise universitaire en santé mentale de l’Université de Sherbrooke\, le Carrefour jeunesse-emploi de Sherbrooke et le Tremplin 16-30.
URL:http://cje-sherbrooke.qc.ca/activite/groupe-5-a-7-4/
LOCATION:Tremplin 16-30\, 95-10 Rue Wellington Sud\, Sherbrooke\,\, Québec\, J1H 5C8
ORGANIZER;CN="Carrefour jeunesse-emploi de Sherbrooke":MAILTO:cje@cje-sherbrooke.qc.ca
GEO:45.3997868;-71.8895656
X-APPLE-STRUCTURED-LOCATION;VALUE=URI;X-ADDRESS=Tremplin 16-30 95-10 Rue Wellington Sud Sherbrooke Québec J1H 5C8;X-APPLE-RADIUS=500;X-TITLE=95-10 Rue Wellington Sud:geo:-71.8895656,45.3997868
END:VEVENT
BEGIN:VEVENT
DTSTART;TZID=America/Toronto:20190625T170000
DTEND;TZID=America/Toronto:20190625T190000
DTSTAMP:20260422T124831
CREATED:20190610T185712Z
LAST-MODIFIED:20190610T185712Z
UID:3061-1561482000-1561489200@cje-sherbrooke.qc.ca
SUMMARY:Groupe 5 à 7
DESCRIPTION:Le Groupe 5@7 (destiné aux jeunes adultes âgés entre 16 et 30 ans) est issu du comité sur la transition à l’âge adulte de Sherbrooke et soutenu par trois partenaires principaux : le Centre RBC d’expertise universitaire en santé mentale de l’Université de Sherbrooke\, le Carrefour jeunesse-emploi de Sherbrooke et le Tremplin 16-30.
URL:http://cje-sherbrooke.qc.ca/activite/groupe-5-a-7-3/
LOCATION:Tremplin 16-30\, 95-10 Rue Wellington Sud\, Sherbrooke\,\, Québec\, J1H 5C8
ORGANIZER;CN="Carrefour jeunesse-emploi de Sherbrooke":MAILTO:cje@cje-sherbrooke.qc.ca
GEO:45.3997868;-71.8895656
X-APPLE-STRUCTURED-LOCATION;VALUE=URI;X-ADDRESS=Tremplin 16-30 95-10 Rue Wellington Sud Sherbrooke Québec J1H 5C8;X-APPLE-RADIUS=500;X-TITLE=95-10 Rue Wellington Sud:geo:-71.8895656,45.3997868
END:VEVENT
BEGIN:VEVENT
DTSTART;TZID=America/Toronto:20190618T170000
DTEND;TZID=America/Toronto:20190618T190000
DTSTAMP:20260422T124831
CREATED:20190610T185546Z
LAST-MODIFIED:20190610T185546Z
UID:3059-1560877200-1560884400@cje-sherbrooke.qc.ca
SUMMARY:Groupe 5 à 7
DESCRIPTION:Le Groupe 5@7 (destiné aux jeunes adultes âgés entre 16 et 30 ans) est issu du comité sur la transition à l’âge adulte de Sherbrooke et soutenu par trois partenaires principaux : le Centre RBC d’expertise universitaire en santé mentale de l’Université de Sherbrooke\, le Carrefour jeunesse-emploi de Sherbrooke et le Tremplin 16-30.
URL:http://cje-sherbrooke.qc.ca/activite/groupe-5-a-7-2/
LOCATION:Tremplin 16-30\, 95-10 Rue Wellington Sud\, Sherbrooke\,\, Québec\, J1H 5C8
ORGANIZER;CN="Carrefour jeunesse-emploi de Sherbrooke":MAILTO:cje@cje-sherbrooke.qc.ca
GEO:45.3997868;-71.8895656
X-APPLE-STRUCTURED-LOCATION;VALUE=URI;X-ADDRESS=Tremplin 16-30 95-10 Rue Wellington Sud Sherbrooke Québec J1H 5C8;X-APPLE-RADIUS=500;X-TITLE=95-10 Rue Wellington Sud:geo:-71.8895656,45.3997868
END:VEVENT
BEGIN:VEVENT
DTSTART;TZID=America/Toronto:20190611T170000
DTEND;TZID=America/Toronto:20190611T190000
DTSTAMP:20260422T124831
CREATED:20190610T182839Z
LAST-MODIFIED:20190610T182839Z
UID:3041-1560272400-1560279600@cje-sherbrooke.qc.ca
SUMMARY:Groupe 5 à 7
DESCRIPTION:Le Groupe 5@7 (destiné aux jeunes adultes âgés entre 16 et 30 ans) est issu du comité sur la transition à l’âge adulte de Sherbrooke et soutenu par trois partenaires principaux : le Centre RBC d’expertise universitaire en santé mentale de l’Université de Sherbrooke\, le Carrefour jeunesse-emploi de Sherbrooke et le Tremplin 16-30.
URL:http://cje-sherbrooke.qc.ca/activite/groupe-5-a-7/
LOCATION:Tremplin 16-30\, 95-10 Rue Wellington Sud\, Sherbrooke\,\, Québec\, J1H 5C8
ORGANIZER;CN="Carrefour jeunesse-emploi de Sherbrooke":MAILTO:cje@cje-sherbrooke.qc.ca
GEO:45.3997868;-71.8895656
X-APPLE-STRUCTURED-LOCATION;VALUE=URI;X-ADDRESS=Tremplin 16-30 95-10 Rue Wellington Sud Sherbrooke Québec J1H 5C8;X-APPLE-RADIUS=500;X-TITLE=95-10 Rue Wellington Sud:geo:-71.8895656,45.3997868
END:VEVENT
END:VCALENDAR