BEGIN:VCALENDAR
VERSION:2.0
PRODID:-//Carrefour jeunesse-emploi de Sherbrooke - ECPv6.10.2//NONSGML v1.0//EN
CALSCALE:GREGORIAN
METHOD:PUBLISH
X-ORIGINAL-URL:http://cje-sherbrooke.qc.ca
X-WR-CALDESC:Événements pour Carrefour jeunesse-emploi de Sherbrooke
REFRESH-INTERVAL;VALUE=DURATION:PT1H
X-Robots-Tag:noindex
X-PUBLISHED-TTL:PT1H
BEGIN:VTIMEZONE
TZID:America/Toronto
BEGIN:DAYLIGHT
TZOFFSETFROM:-0500
TZOFFSETTO:-0400
TZNAME:EDT
DTSTART:20190310T070000
END:DAYLIGHT
BEGIN:STANDARD
TZOFFSETFROM:-0400
TZOFFSETTO:-0500
TZNAME:EST
DTSTART:20191103T060000
END:STANDARD
END:VTIMEZONE
BEGIN:VEVENT
DTSTART;TZID=America/Toronto:20190618T170000
DTEND;TZID=America/Toronto:20190618T190000
DTSTAMP:20260422T160522
CREATED:20190610T185546Z
LAST-MODIFIED:20190610T185546Z
UID:3059-1560877200-1560884400@cje-sherbrooke.qc.ca
SUMMARY:Groupe 5 à 7
DESCRIPTION:Le Groupe 5@7 (destiné aux jeunes adultes âgés entre 16 et 30 ans) est issu du comité sur la transition à l’âge adulte de Sherbrooke et soutenu par trois partenaires principaux : le Centre RBC d’expertise universitaire en santé mentale de l’Université de Sherbrooke\, le Carrefour jeunesse-emploi de Sherbrooke et le Tremplin 16-30.
URL:http://cje-sherbrooke.qc.ca/activite/groupe-5-a-7-2/
LOCATION:Tremplin 16-30\, 95-10 Rue Wellington Sud\, Sherbrooke\,\, Québec\, J1H 5C8
ORGANIZER;CN="Carrefour jeunesse-emploi de Sherbrooke":MAILTO:cje@cje-sherbrooke.qc.ca
GEO:45.3997868;-71.8895656
X-APPLE-STRUCTURED-LOCATION;VALUE=URI;X-ADDRESS=Tremplin 16-30 95-10 Rue Wellington Sud Sherbrooke Québec J1H 5C8;X-APPLE-RADIUS=500;X-TITLE=95-10 Rue Wellington Sud:geo:-71.8895656,45.3997868
END:VEVENT
BEGIN:VEVENT
DTSTART;TZID=America/Toronto:20190611T170000
DTEND;TZID=America/Toronto:20190611T190000
DTSTAMP:20260422T160522
CREATED:20190610T182839Z
LAST-MODIFIED:20190610T182839Z
UID:3041-1560272400-1560279600@cje-sherbrooke.qc.ca
SUMMARY:Groupe 5 à 7
DESCRIPTION:Le Groupe 5@7 (destiné aux jeunes adultes âgés entre 16 et 30 ans) est issu du comité sur la transition à l’âge adulte de Sherbrooke et soutenu par trois partenaires principaux : le Centre RBC d’expertise universitaire en santé mentale de l’Université de Sherbrooke\, le Carrefour jeunesse-emploi de Sherbrooke et le Tremplin 16-30.
URL:http://cje-sherbrooke.qc.ca/activite/groupe-5-a-7/
LOCATION:Tremplin 16-30\, 95-10 Rue Wellington Sud\, Sherbrooke\,\, Québec\, J1H 5C8
ORGANIZER;CN="Carrefour jeunesse-emploi de Sherbrooke":MAILTO:cje@cje-sherbrooke.qc.ca
GEO:45.3997868;-71.8895656
X-APPLE-STRUCTURED-LOCATION;VALUE=URI;X-ADDRESS=Tremplin 16-30 95-10 Rue Wellington Sud Sherbrooke Québec J1H 5C8;X-APPLE-RADIUS=500;X-TITLE=95-10 Rue Wellington Sud:geo:-71.8895656,45.3997868
END:VEVENT
END:VCALENDAR