BEGIN:VCALENDAR
VERSION:2.0
PRODID:-//Carrefour jeunesse-emploi de Sherbrooke - ECPv6.10.2//NONSGML v1.0//EN
CALSCALE:GREGORIAN
METHOD:PUBLISH
X-WR-CALNAME:Carrefour jeunesse-emploi de Sherbrooke
X-ORIGINAL-URL:http://cje-sherbrooke.qc.ca
X-WR-CALDESC:Événements pour Carrefour jeunesse-emploi de Sherbrooke
REFRESH-INTERVAL;VALUE=DURATION:PT1H
X-Robots-Tag:noindex
X-PUBLISHED-TTL:PT1H
BEGIN:VTIMEZONE
TZID:America/Toronto
BEGIN:DAYLIGHT
TZOFFSETFROM:-0500
TZOFFSETTO:-0400
TZNAME:EDT
DTSTART:20180311T070000
END:DAYLIGHT
BEGIN:STANDARD
TZOFFSETFROM:-0400
TZOFFSETTO:-0500
TZNAME:EST
DTSTART:20181104T060000
END:STANDARD
END:VTIMEZONE
BEGIN:VEVENT
DTSTART;TZID=America/Toronto:20181010T130000
DTEND;TZID=America/Toronto:20181010T160000
DTSTAMP:20260421T185900
CREATED:20181003T173014Z
LAST-MODIFIED:20181003T173014Z
UID:2042-1539176400-1539187200@cje-sherbrooke.qc.ca
SUMMARY:Visite de Sherweb au CJE de Sherbrooke
DESCRIPTION:SherWeb est en expansion et recherche les meilleurs pour se joindre à son équipe! Tu as le souci d’un bon service à la clientèle\, tu adores résoudre des problèmes et tu maîtrise l’anglais? Nous avons des opportunités pour toi! \nLe but est de te rencontrer dans un environnement décontracté afin d’en apprendre un peu plus sur toi et toi sur nous! Sur place\, tu pourras échanger avec des membres de l’équipe de SherWeb et en apprendre plus sur le métier de conseiller au support technique. \nAu plaisir de « connecter » avec toi! \nVoici des atouts importants\, si ce type d’emploi t’intéresse: \n\nLa maîtrise de l’anglais\nL’intérêt pour le service à la clientèle (support en service téléphonique)\nL’intérêt et des aptitudes en informatique
URL:http://cje-sherbrooke.qc.ca/activite/visite-de-sherweb-au-cje-de-sherbrooke/
LOCATION:Carrefour jeunesse-emploi de Sherbrooke\, 20\, rue Wellington Nord\, Sherbrooke\, (Québec)\, J1H 5B7\, Canada
ORGANIZER;CN="Carrefour jeunesse-emploi de Sherbrooke":MAILTO:cje@cje-sherbrooke.qc.ca
GEO:45.4018607;-71.8904167
X-APPLE-STRUCTURED-LOCATION;VALUE=URI;X-ADDRESS=Carrefour jeunesse-emploi de Sherbrooke 20 rue Wellington Nord Sherbrooke (Québec) J1H 5B7 Canada;X-APPLE-RADIUS=500;X-TITLE=20\, rue Wellington Nord:geo:-71.8904167,45.4018607
END:VEVENT
END:VCALENDAR